BEGIN:VCALENDAR
VERSION:2.0
PRODID:-//juiceboxinteractive//NONSGML Events //EN
X-WR-CALNAME:Nevada CSD - Events
X-ORIGINAL-URL:https://www.nevadacubs.org/calendar/ical-export/?evt_id=22328
X-WR-CALDESC:Nevada CSD - Events
CALSCALE:GREGORIAN
BEGIN:VEVENT
UID:evt-22328@www.nevadacubs.org
DTSTART:20260420T213000Z
DTEND:20260421T013000Z
DTSTAMP:20260420T103434Z
SUMMARY:Boys Track &#038; Field: Gilbert COED JV Track Meet (Junior Varsity)
DESCRIPTION:Junior Varsity Boys Track &#38; Field &#8211; Gilbert COED JV Track Meet
END:VEVENT
END:VCALENDAR