BEGIN:VCALENDAR
VERSION:2.0
PRODID:-//juiceboxinteractive//NONSGML Events //EN
X-WR-CALNAME:Nevada CSD - Events
X-ORIGINAL-URL:https://www.nevadacubs.org/calendar/ical-export/?evt_id=22329
X-WR-CALDESC:Nevada CSD - Events
CALSCALE:GREGORIAN
BEGIN:VEVENT
UID:evt-22329@www.nevadacubs.org
DTSTART:20260421T170000Z
DTEND:20260422T000000Z
DTSTAMP:20260420T103308Z
SUMMARY:Boys Spring Golf: Ballard Varsity Golf Meet (Varsity)
DESCRIPTION:Varsity Boys Spring Golf &#8211; Ballard Varsity Golf Meet
END:VEVENT
END:VCALENDAR