BEGIN:VCALENDAR
VERSION:2.0
PRODID:-//juiceboxinteractive//NONSGML Events //EN
X-WR-CALNAME:Nevada CSD - Events
X-ORIGINAL-URL:https://www.nevadacubs.org/calendar/ical-export/?evt_id=22330
X-WR-CALDESC:Nevada CSD - Events
CALSCALE:GREGORIAN
BEGIN:VEVENT
UID:evt-22330@www.nevadacubs.org
DTSTART:20260421T190000Z
DTEND:20260421T220000Z
DTSTAMP:20260420T103326Z
SUMMARY:Girls Golf: West Marshall Girls Golf Tournament (Varsity)
DESCRIPTION:Varsity Girls Golf &#8211; West Marshall Girls Golf Tournament
END:VEVENT
END:VCALENDAR