BEGIN:VCALENDAR
VERSION:2.0
PRODID:-//juiceboxinteractive//NONSGML Events //EN
X-WR-CALNAME:Nevada CSD - Events
X-ORIGINAL-URL:https://www.nevadacubs.org/calendar/ical-export/?evt_id=22331
X-WR-CALDESC:Nevada CSD - Events
CALSCALE:GREGORIAN
BEGIN:VEVENT
UID:evt-22331@www.nevadacubs.org
DTSTART:20260421T210000Z
DTEND:20260421T220000Z
DTSTAMP:20260420T102938Z
SUMMARY:Boys Spring Golf: PCM JV Triangular (Junior Varsity)
DESCRIPTION:Junior Varsity Boys Spring Golf &#8211; PCM JV Triangular
END:VEVENT
END:VCALENDAR