BEGIN:VCALENDAR
VERSION:2.0
PRODID:-//juiceboxinteractive//NONSGML Events //EN
X-WR-CALNAME:Nevada CSD - Events
X-ORIGINAL-URL:https://www.nevadacubs.org/calendar/ical-export/?evt_id=22332
X-WR-CALDESC:Nevada CSD - Events
CALSCALE:GREGORIAN
BEGIN:VEVENT
UID:evt-22332@www.nevadacubs.org
DTSTART:20260421T211500Z
DTEND:20260422T011500Z
DTSTAMP:20260420T103019Z
SUMMARY:Girls Track &#038; Field: Carlisle Middle School Girls Track Meet (Junior High)
DESCRIPTION:Junior High Girls Track &#38; Field &#8211; Carlisle Middle School Girls Track ...
END:VEVENT
END:VCALENDAR