BEGIN:VCALENDAR
VERSION:2.0
PRODID:-//juiceboxinteractive//NONSGML Events //EN
X-WR-CALNAME:Nevada CSD - Events
X-ORIGINAL-URL:https://www.nevadacubs.org/calendar/ical-export/?evt_id=22333
X-WR-CALDESC:Nevada CSD - Events
CALSCALE:GREGORIAN
BEGIN:VEVENT
UID:evt-22333@www.nevadacubs.org
DTSTART:20260421T213000Z
DTEND:20260422T003000Z
DTSTAMP:20260420T103518Z
SUMMARY:Boys Tennis: Nevada vs Webster City (Varsity)
DESCRIPTION:Varsity Boys Tennis &#8211; Nevada vs Webster City
END:VEVENT
END:VCALENDAR