BEGIN:VCALENDAR
VERSION:2.0
PRODID:-//juiceboxinteractive//NONSGML Events //EN
X-WR-CALNAME:Nevada CSD - Events
X-ORIGINAL-URL:https://www.nevadacubs.org/calendar/ical-export/?evt_id=22335
X-WR-CALDESC:Nevada CSD - Events
CALSCALE:GREGORIAN
BEGIN:VEVENT
UID:evt-22335@www.nevadacubs.org
DTSTART:20260421T213000Z
DTEND:20260422T023000Z
DTSTAMP:20260420T103154Z
SUMMARY:Boys Track &#038; Field: Nevada MS Boys Track Meet (Junior High)
DESCRIPTION:Junior High Boys Track &#38; Field &#8211; Nevada MS Boys Track Meet
END:VEVENT
END:VCALENDAR