BEGIN:VCALENDAR
VERSION:2.0
PRODID:-//juiceboxinteractive//NONSGML Events //EN
X-WR-CALNAME:Nevada CSD - Events
X-ORIGINAL-URL:https://www.nevadacubs.org/calendar/ical-export/?evt_id=22336
X-WR-CALDESC:Nevada CSD - Events
CALSCALE:GREGORIAN
BEGIN:VEVENT
UID:evt-22336@www.nevadacubs.org
DTSTART:20260421T213000Z
DTEND:20260422T013000Z
DTSTAMP:20260420T103513Z
SUMMARY:Boys Track &#038; Field: Madrid Boys Track Invite (Varsity)
DESCRIPTION:Varsity Boys Track &#38; Field &#8211; Madrid Boys Track Invite
END:VEVENT
END:VCALENDAR