BEGIN:VCALENDAR
VERSION:2.0
PRODID:-//juiceboxinteractive//NONSGML Events //EN
X-WR-CALNAME:Nevada CSD - Events
X-ORIGINAL-URL:https://www.nevadacubs.org/calendar/ical-export/?evt_id=22337
X-WR-CALDESC:Nevada CSD - Events
CALSCALE:GREGORIAN
BEGIN:VEVENT
UID:evt-22337@www.nevadacubs.org
DTSTART:20260421T230000Z
DTEND:20260422T000000Z
DTSTAMP:20260420T103355Z
SUMMARY:Boys Soccer: ADM vs Nevada (Junior Varsity)
DESCRIPTION:Junior Varsity Boys Soccer &#8211; ADM vs Nevada
END:VEVENT
END:VCALENDAR