BEGIN:VCALENDAR
VERSION:2.0
PRODID:-//juiceboxinteractive//NONSGML Events //EN
X-WR-CALNAME:Nevada CSD - Events
X-ORIGINAL-URL:https://www.nevadacubs.org/calendar/ical-export/?evt_id=22338
X-WR-CALDESC:Nevada CSD - Events
CALSCALE:GREGORIAN
BEGIN:VEVENT
UID:evt-22338@www.nevadacubs.org
DTSTART:20260421T223000Z
DTEND:20260421T233000Z
DTSTAMP:20260420T103513Z
SUMMARY:Girls Soccer: Nevada vs ADM (Junior Varsity)
DESCRIPTION:Junior Varsity Girls Soccer &#8211; Nevada vs ADM
END:VEVENT
END:VCALENDAR