BEGIN:VCALENDAR
VERSION:2.0
PRODID:-//juiceboxinteractive//NONSGML Events //EN
X-WR-CALNAME:Nevada CSD - Events
X-ORIGINAL-URL:https://www.nevadacubs.org/calendar/ical-export/?evt_id=22339
X-WR-CALDESC:Nevada CSD - Events
CALSCALE:GREGORIAN
BEGIN:VEVENT
UID:evt-22339@www.nevadacubs.org
DTSTART:20260422T003000Z
DTEND:20260422T020000Z
DTSTAMP:20260420T103518Z
SUMMARY:Boys Soccer: ADM vs Nevada (Varsity)
DESCRIPTION:Varsity Boys Soccer &#8211; ADM vs Nevada
END:VEVENT
END:VCALENDAR