BEGIN:VCALENDAR
VERSION:2.0
PRODID:-//juiceboxinteractive//NONSGML Events //EN
X-WR-CALNAME:Nevada CSD - Events
X-ORIGINAL-URL:https://www.nevadacubs.org/calendar/ical-export/?evt_id=22340
X-WR-CALDESC:Nevada CSD - Events
CALSCALE:GREGORIAN
BEGIN:VEVENT
UID:evt-22340@www.nevadacubs.org
DTSTART:20260422T000000Z
DTEND:20260422T013000Z
DTSTAMP:20260420T103442Z
SUMMARY:Girls Soccer: Nevada vs ADM (Varsity)
DESCRIPTION:Varsity Girls Soccer &#8211; Nevada vs ADM
END:VEVENT
END:VCALENDAR