BEGIN:VCALENDAR
VERSION:2.0
PRODID:-//juiceboxinteractive//NONSGML Events //EN
X-WR-CALNAME:Nevada CSD - Events
X-ORIGINAL-URL:https://www.nevadacubs.org/calendar/ical-export/?evt_id=22343
X-WR-CALDESC:Nevada CSD - Events
CALSCALE:GREGORIAN
BEGIN:VEVENT
UID:evt-22343@www.nevadacubs.org
DTSTART:20260423T211500Z
DTEND:20260424T003000Z
DTSTAMP:20260420T103154Z
SUMMARY:Boys Track &#038; Field: Carlisle MS Boys Wildcat Relays ()
DESCRIPTION:Boys Track &#38; Field &#8211; Carlisle MS Boys Wildcat Relays
END:VEVENT
END:VCALENDAR