BEGIN:VCALENDAR
VERSION:2.0
PRODID:-//juiceboxinteractive//NONSGML Events //EN
X-WR-CALNAME:Nevada CSD - Events
X-ORIGINAL-URL:https://www.nevadacubs.org/calendar/ical-export/?evt_id=22344
X-WR-CALDESC:Nevada CSD - Events
CALSCALE:GREGORIAN
BEGIN:VEVENT
UID:evt-22344@www.nevadacubs.org
DTSTART:20260423T213000Z
DTEND:20260424T020000Z
DTSTAMP:20260420T103442Z
SUMMARY:Girls Track &#038; Field: Nevada MS Girls Track Meet (Junior High)
DESCRIPTION:Junior High Girls Track &#38; Field &#8211; Nevada MS Girls Track Meet
END:VEVENT
END:VCALENDAR