BEGIN:VCALENDAR
VERSION:2.0
PRODID:-//juiceboxinteractive//NONSGML Events //EN
X-WR-CALNAME:Nevada CSD - Events
X-ORIGINAL-URL:https://www.nevadacubs.org/calendar/ical-export/?evt_id=22345
X-WR-CALDESC:Nevada CSD - Events
CALSCALE:GREGORIAN
BEGIN:VEVENT
UID:evt-22345@www.nevadacubs.org
DTSTART:20260423T213000Z
DTEND:20260424T030000Z
DTSTAMP:20260420T103308Z
SUMMARY:Girls Track &#038; Field: Girls JV/Varsity Norsemen Relays (Varsity)
DESCRIPTION:Varsity Girls Track &#38; Field &#8211; Girls JV/Varsity Norsemen Relays
END:VEVENT
END:VCALENDAR