BEGIN:VCALENDAR
VERSION:2.0
PRODID:-//juiceboxinteractive//NONSGML Events //EN
X-WR-CALNAME:Nevada CSD - Events
X-ORIGINAL-URL:https://www.nevadacubs.org/calendar/ical-export/?evt_id=22347
X-WR-CALDESC:Nevada CSD - Events
CALSCALE:GREGORIAN
BEGIN:VEVENT
UID:evt-22347@www.nevadacubs.org
DTSTART:20260424T000000Z
DTEND:20260424T020000Z
DTSTAMP:20260420T103138Z
SUMMARY:Boys Soccer: Grand View Christian vs Nevada (Varsity)
DESCRIPTION:Varsity Boys Soccer &#8211; Grand View Christian vs Nevada
END:VEVENT
END:VCALENDAR