BEGIN:VCALENDAR
VERSION:2.0
PRODID:-//juiceboxinteractive//NONSGML Events //EN
X-WR-CALNAME:Nevada CSD - Events
X-ORIGINAL-URL:https://www.nevadacubs.org/calendar/ical-export/?evt_id=22350
X-WR-CALDESC:Nevada CSD - Events
CALSCALE:GREGORIAN
BEGIN:VEVENT
UID:evt-22350@www.nevadacubs.org
DTSTART:20260424T210000Z
DTEND:20260425T000000Z
DTSTAMP:20260420T103630Z
SUMMARY:Girls Golf: Girls Golf (Junior Varsity)
DESCRIPTION:Junior Varsity Girls Golf &#8211; Girls Golf
END:VEVENT
END:VCALENDAR