BEGIN:VCALENDAR
VERSION:2.0
PRODID:-//juiceboxinteractive//NONSGML Events //EN
X-WR-CALNAME:Nevada CSD - Events
X-ORIGINAL-URL:https://www.nevadacubs.org/calendar/ical-export/?evt_id=22352
X-WR-CALDESC:Nevada CSD - Events
CALSCALE:GREGORIAN
BEGIN:VEVENT
UID:evt-22352@www.nevadacubs.org
DTSTART:20260424T223000Z
DTEND:20260424T233000Z
DTSTAMP:20260420T103050Z
SUMMARY:CANCELLED &#8211; Girls Soccer: Dike-New Hartford vs Nevada (Junior Varsity)
DESCRIPTION:Junior Varsity Girls Soccer &#8211; Dike-New Hartford vs Nevada
END:VEVENT
END:VCALENDAR