BEGIN:VCALENDAR
VERSION:2.0
PRODID:-//juiceboxinteractive//NONSGML Events //EN
X-WR-CALNAME:Nevada CSD - Events
X-ORIGINAL-URL:https://www.nevadacubs.org/calendar/ical-export/?evt_id=22354
X-WR-CALDESC:Nevada CSD - Events
CALSCALE:GREGORIAN
BEGIN:VEVENT
UID:evt-22354@www.nevadacubs.org
DTSTART:20260425T003000Z
DTEND:20260425T023000Z
DTSTAMP:20260420T103608Z
SUMMARY:Boys Soccer: Nevada vs Iowa Falls-Alden (Junior Varsity)
DESCRIPTION:Junior Varsity Boys Soccer &#8211; Nevada vs Iowa Falls-Alden
END:VEVENT
END:VCALENDAR