BEGIN:VCALENDAR
VERSION:2.0
PRODID:-//juiceboxinteractive//NONSGML Events //EN
X-WR-CALNAME:Nevada CSD - Events
X-ORIGINAL-URL:https://www.nevadacubs.org/calendar/ical-export/?evt_id=22810
X-WR-CALDESC:Nevada CSD - Events
CALSCALE:GREGORIAN
BEGIN:VEVENT
UID:evt-22810@www.nevadacubs.org
DTSTART:20260420T160000Z
DTEND:20260420T210000Z
DTSTAMP:20260420T102922Z
SUMMARY:Girls Golf: DMC Invitational @ DM Golf @ Country Club (Varsity)
DESCRIPTION:Varsity Girls Golf &#8211; DMC Invitational @ DM Golf @ Country Club
END:VEVENT
END:VCALENDAR