BEGIN:VCALENDAR
VERSION:2.0
PRODID:-//juiceboxinteractive//NONSGML Events //EN
X-WR-CALNAME:Nevada CSD - Events
X-ORIGINAL-URL:https://www.nevadacubs.org/calendar/ical-export/?evt_id=22811
X-WR-CALDESC:Nevada CSD - Events
CALSCALE:GREGORIAN
BEGIN:VEVENT
UID:evt-22811@www.nevadacubs.org
DTSTART:20260420T160000Z
DTEND:20260420T210000Z
DTSTAMP:20260420T102938Z
SUMMARY:Boys Spring Golf: DMC Invitational @ DM Golf &#038; Country Club (Varsity)
DESCRIPTION:Varsity Boys Spring Golf &#8211; DMC Invitational @ DM Golf &#38; Country ...
END:VEVENT
END:VCALENDAR