BEGIN:VCALENDAR
VERSION:2.0
PRODID:-//juiceboxinteractive//NONSGML Events //EN
X-WR-CALNAME:Nevada CSD - Events
X-ORIGINAL-URL:https://www.nevadacubs.org/calendar/ical-export/?evt_id=22941
X-WR-CALDESC:Nevada CSD - Events
CALSCALE:GREGORIAN
BEGIN:VEVENT
UID:evt-22941@www.nevadacubs.org
DTSTART:20260423T210000Z
DTEND:20260423T210000Z
DTSTAMP:20260420T103019Z
SUMMARY:Boys Spring Golf: Nevada vs Greene County (Junior Varsity)
DESCRIPTION:Junior Varsity Boys Spring Golf &#8211; Nevada vs Greene County
END:VEVENT
END:VCALENDAR