BEGIN:VCALENDAR
VERSION:2.0
PRODID:-//juiceboxinteractive//NONSGML Events //EN
X-WR-CALNAME:Nevada CSD - Events
X-ORIGINAL-URL:https://www.nevadacubs.org/calendar/ical-export/?evt_id=22959
X-WR-CALDESC:Nevada CSD - Events
CALSCALE:GREGORIAN
BEGIN:VEVENT
UID:evt-22959@www.nevadacubs.org
DTSTART:20260423T160000Z
DTEND:20260423T220000Z
DTSTAMP:20260420T103104Z
SUMMARY:Boys Spring Golf: North Polk Invitational (Varsity)
DESCRIPTION:Varsity Boys Spring Golf &#8211; North Polk Invitational
END:VEVENT
END:VCALENDAR