BEGIN:VCALENDAR
VERSION:2.0
PRODID:-//juiceboxinteractive//NONSGML Events //EN
X-WR-CALNAME:Nevada CSD - Events
X-ORIGINAL-URL:https://www.nevadacubs.org/calendar/ical-export/?evt_id=23299
X-WR-CALDESC:Nevada CSD - Events
CALSCALE:GREGORIAN
BEGIN:VEVENT
UID:evt-23299@www.nevadacubs.org
DTSTART:20260421T214500Z
DTEND:20260421T224500Z
DTSTAMP:20260420T103609Z
SUMMARY:Boys Soccer: ADM vs Nevada (Junior Varsity 2)
DESCRIPTION:Junior Varsity 2 Boys Soccer &#8211; ADM vs Nevada
END:VEVENT
END:VCALENDAR