BEGIN:VCALENDAR
VERSION:2.0
PRODID:-//juiceboxinteractive//NONSGML Events //EN
X-WR-CALNAME:Nevada CSD - Events
X-ORIGINAL-URL:https://www.nevadacubs.org/calendar/ical-export/?evt_id=23329
X-WR-CALDESC:Nevada CSD - Events
CALSCALE:GREGORIAN
BEGIN:VEVENT
UID:evt-23329@www.nevadacubs.org
DTSTART:20260423T130000Z
DTEND:20260424T010000Z
DTSTAMP:20260420T103050Z
SUMMARY:Girls Track &#038; Field: 116th Drake Relays presented by Xtream powered by Mediacom (Varsity)
DESCRIPTION:Varsity Girls Track &#38; Field &#8211; 116th Drake Relays presented by Xtream ...
END:VEVENT
END:VCALENDAR