BEGIN:VCALENDAR
VERSION:2.0
PRODID:-//juiceboxinteractive//NONSGML Events //EN
X-WR-CALNAME:Nevada CSD - Events
X-ORIGINAL-URL:https://www.nevadacubs.org/calendar/ical-export/?evt_id=23437
X-WR-CALDESC:Nevada CSD - Events
CALSCALE:GREGORIAN
BEGIN:VEVENT
UID:evt-23437@www.nevadacubs.org
DTSTART:20260423T213000Z
DTEND:20260424T010000Z
DTSTAMP:20260420T103317Z
SUMMARY:Boys Tennis: North Polk vs Nevada (Junior Varsity)
DESCRIPTION:Junior Varsity Boys Tennis &#8211; North Polk vs Nevada
END:VEVENT
END:VCALENDAR